BEGIN:VCALENDAR
VERSION:2.0
PRODID:-//eventon.com NONSGML v1.0//EN
CALSCALE:GREGORIAN
METHOD:PUBLISH
BEGIN:VEVENT
UID:69e60830ca51a
DTSTAMP:20260420T110416Z
DTSTART:20230211T180000Z
DTEND:20230211T220000Z
LOCATION:
SUMMARY:Jakob Jost Gedächtnisschießen
DESCRIPTION:Jakob Jost Gedächtnisschießen\nhttps://sg-altenwaldeck.de/eve
 nts/jakob-jost-gedaechtnisschiessen/
URL:https://sg-altenwaldeck.de/events/jakob-jost-gedaechtnisschiessen/
END:VEVENT
END:VCALENDAR