BEGIN:VCALENDAR
VERSION:2.0
PRODID:-//eventon.com NONSGML v1.0//EN
CALSCALE:GREGORIAN
METHOD:PUBLISH
BEGIN:VEVENT
UID:69e6026bad3bc
DTSTAMP:20260420T103939Z
DTSTART:20221216T180000Z
DTEND:20221216T150000Z
LOCATION:
SUMMARY:Kranzlschießen
DESCRIPTION:Kranzlschießen\nhttps://sg-altenwaldeck.de/events/kranzlschies
 sen/
URL:https://sg-altenwaldeck.de/events/kranzlschiessen/
END:VEVENT
END:VCALENDAR