BEGIN:VCALENDAR
VERSION:2.0
PRODID:-//eventon.com NONSGML v1.0//EN
CALSCALE:GREGORIAN
METHOD:PUBLISH
BEGIN:VEVENT
UID:69e8aa1a0c156
DTSTAMP:20260422T105938Z
DTSTART:20221203T160000Z
DTEND:20221203T220000Z
LOCATION:
SUMMARY:Kranzlschießen
DESCRIPTION:Kranzlschießen\nhttps://sg-altenwaldeck.de/events/kranzlschies
 sen-2/
URL:https://sg-altenwaldeck.de/events/kranzlschiessen-2/
END:VEVENT
END:VCALENDAR