BEGIN:VCALENDAR
VERSION:2.0
PRODID:-//eventon.com NONSGML v1.0//EN
CALSCALE:GREGORIAN
METHOD:PUBLISH
BEGIN:VEVENT
UID:69e8e3aa9ec79
DTSTAMP:20260422T150514Z
DTSTART:20240302T180000Z
DTEND:20240302T230000Z
LOCATION:
SUMMARY:Kranzlschießen
DESCRIPTION:Kranzlschießen\nhttps://sg-altenwaldeck.de/events/kranzlschies
 sen-10/
URL:https://sg-altenwaldeck.de/events/kranzlschiessen-10/
END:VEVENT
END:VCALENDAR